Workbook

Sheet Dashboard
A1: Instructions: Step one: Click on a county name in cells A14, A40, or A65. Step two: Click on the arrow to the right of the cell. A drop down menu will appear. Then select the county that would you like to observe. For the description of indicators hover mouse over red tags in the top right corner in cells.
A2: Instructions Step one: Click on a county name (Adams County (A2) or Ashland County (A25)) Step two: Click on the arrow to the right of the cell, a drop down menu will appear then select the County that would you like to observe. For the description of indicators hover mouse over red tags in the top right corner in cells A3 to A20.
A3: Instructions Step one: Click on a county name (Adams County (A2) or Ashland County (A25)) Step two: Click on the arrow to the right of the cell, a drop down menu will appear then select the County that would you like to observe. For the description of indicators hover mouse over red tags in the top right corner in cells A3 to A20.
A4: Instructions Step one: Click on a county name (Adams County (A2) or Ashland County (A25)) Step two: Click on the arrow to the right of the cell, a drop down menu will appear then select the County that would you like to observe. For the description of indicators hover mouse over red tags in the top right corner in cells A3 to A20.
A5: Instructions Step one: Click on a county name (Adams County (A2) or Ashland County (A25)) Step two: Click on the arrow to the right of the cell, a drop down menu will appear then select the County that would you like to observe. For the description of indicators hover mouse over red tags in the top right corner in cells A3 to A20.
A6: Instructions Step one: Click on a county name (Adams County (A2) or Ashland County (A25)) Step two: Click on the arrow to the right of the cell, a drop down menu will appear then select the County that would you like to observe. For the description of indicators hover mouse over red tags in the top right corner in cells A3 to A20.
A7: Instructions Step one: Click on a county name (Adams County (A2) or Ashland County (A25)) Step two: Click on the arrow to the right of the cell, a drop down menu will appear then select the County that would you like to observe. For the description of indicators hover mouse over red tags in the top right corner in cells A3 to A20.
A8: Instructions Step one: Click on a county name (Adams County (A2) or Ashland County (A25)) Step two: Click on the arrow to the right of the cell, a drop down menu will appear then select the County that would you like to observe. For the description of indicators hover mouse over red tags in the top right corner in cells A3 to A20.
A9: Instructions Step one: Click on a county name (Adams County (A2) or Ashland County (A25)) Step two: Click on the arrow to the right of the cell, a drop down menu will appear then select the County that would you like to observe. For the description of indicators hover mouse over red tags in the top right corner in cells A3 to A20.
A10: Instructions Step one: Click on a county name (Adams County (A2) or Ashland County (A25)) Step two: Click on the arrow to the right of the cell, a drop down menu will appear then select the County that would you like to observe. For the description of indicators hover mouse over red tags in the top right corner in cells A3 to A20.
A12: APR Indicators: County vs. State Targets
A14: All Counties | B14: Dashboard APR Data | C14: State Targets | D14: Overall State Results
A15: Indicator 1 | B15: =VLOOKUP($A$14,'19-20 Indicator Data'!$A$1:$R$74,2,FALSE) -> 0.999 | C15: 1 | D15: 0.999 | E15: 0.565 | F15: 0.399 | G15: 0.599 | H15: 0.281 | I15: 0.616 | J15: 0.411 | K15: 0.782 | L15: 0.8774 | M15: 0.8283 | N15: 0.01 | O15: 0.0304 | P15: 0.9936 | Q15: 0.9966 | R15: 0.9827 | S15: 0.9788
A16: Indicator 2 | B16: =VLOOKUP($A$14,'19-20 Indicator Data'!$A$1:$R$74,3,FALSE) -> 0.9969 | C16: 0.99 | D16: 0.9969
A17: Indicator 3 O1 SS1 | B17: =VLOOKUP($A$14,'19-20 Indicator Data'!$A$1:$R$74,4,FALSE) -> 0.565 | C17: 0.62 | D17: 0.565
A18: Indicator 3 O1 SS2 | B18: =VLOOKUP($A$14,'19-20 Indicator Data'!$A$1:$R$74,5,FALSE) -> 0.399 | C18: 0.48 | D18: 0.399
A19: Indicator 3 O2 SS1 | B19: =VLOOKUP($A$14,'19-20 Indicator Data'!$A$1:$R$74,6,FALSE) -> 0.599 | C19: 0.6617 | D19: 0.599
A20: Indicator 3 O2 SS2 | B20: =VLOOKUP($A$14,'19-20 Indicator Data'!$A$1:$R$74,7,FALSE) -> 0.281 | C20: 0.36 | D20: 0.281
A21: Indicator 3 O3 SS1 | B21: =VLOOKUP($A$14,'19-20 Indicator Data'!$A$1:$R$74,8,FALSE) -> 0.616 | C21: 0.6957 | D21: 0.616
A22: Indicator 3 O3 SS2 | B22: =VLOOKUP($A$14,'19-20 Indicator Data'!$A$1:$R$74,9,FALSE) -> 0.411 | C22: 0.51 | D22: 0.411
A23: Indicator 4A | B23: =VLOOKUP($A$14,'19-20 Indicator Data'!$A$1:$R$74,10,FALSE) -> 0.782 | C23: 0.85 | D23: 0.782
A24: Indicator 4B | B24: =VLOOKUP($A$14,'19-20 Indicator Data'!$A$1:$R$74,11,FALSE) -> 0.8774 | C24: 0.89 | D24: 0.8774
A25: Indicator 4C | B25: =VLOOKUP($A$14,'19-20 Indicator Data'!$A$1:$R$74,12,FALSE) -> 0.8283 | C25: 0.92 | D25: 0.8283
A26: Indicator 5 | B26: =VLOOKUP($A$14,'19-20 Indicator Data'!$A$1:$R$74,13,FALSE) -> 0.01 | C26: 0.0105 | D26: 0.01
A27: Indicator 6 | B27: =VLOOKUP($A$14,'19-20 Indicator Data'!$A$1:$R$74,14,FALSE) -> 0.0304 | C27: 0.03 | D27: 0.0304
A28: Indicator 7 | B28: =VLOOKUP($A$14,'19-20 Indicator Data'!$A$1:$R$74,15,FALSE) -> 0.9936 | C28: 1 | D28: 0.9936
A29: Indicator 8A | B29: =VLOOKUP($A$14,'19-20 Indicator Data'!$A$1:$R$74,16,FALSE) -> 0.9966 | C29: 1 | D29: 0.9966
A30: Indicator 8B | B30: =VLOOKUP($A$14,'19-20 Indicator Data'!$A$1:$R$74,17,FALSE) -> 0.9827 | C30: 1 | D30: 0.9827
A31: Indicator 8C | B31: =VLOOKUP($A$14,'19-20 Indicator Data'!$A$1:$R$74,18,FALSE) -> 0.9788 | C31: 1 | D31: 0.9788
A38: APR Indicators: County vs. County
A40: All Counties | B40: Dashboard APR Data | C40: State Targets | D40: Overall State Results
A41: Indicator 1 | B41: =VLOOKUP($A$40,'19-20 Indicator Data'!$A$1:$R$74,2,FALSE) -> 0.999 | C41: 1 | D41: 0.999
A42: Indicator 2 | B42: =VLOOKUP($A$40,'19-20 Indicator Data'!$A$1:$R$74,3,FALSE) -> 0.9969 | C42: 0.99 | D42: 0.9969
A43: Indicator 3 O1 SS1 | B43: =VLOOKUP($A$40,'19-20 Indicator Data'!$A$1:$R$74,4,FALSE) -> 0.565 | C43: 0.62 | D43: 0.565
A44: Indicator 3 O1 SS2 | B44: =VLOOKUP($A$40,'19-20 Indicator Data'!$A$1:$R$74,5,FALSE) -> 0.399 | C44: 0.48 | D44: 0.399
A45: Indicator 3 O2 SS1 | B45: =VLOOKUP($A$40,'19-20 Indicator Data'!$A$1:$R$74,6,FALSE) -> 0.599 | C45: 0.6617 | D45: 0.599
A46: Indicator 3 O2 SS2 | B46: =VLOOKUP($A$40,'19-20 Indicator Data'!$A$1:$R$74,7,FALSE) -> 0.281 | C46: 0.36 | D46: 0.281
A47: Indicator 3 O3 SS1 | B47: =VLOOKUP($A$40,'19-20 Indicator Data'!$A$1:$R$74,8,FALSE) -> 0.616 | C47: 0.6957 | D47: 0.616
A48: Indicator 3 O3 SS2 | B48: =VLOOKUP($A$40,'19-20 Indicator Data'!$A$1:$R$74,9,FALSE) -> 0.411 | C48: 0.51 | D48: 0.411
A49: Indicator 4A | B49: =VLOOKUP($A$40,'19-20 Indicator Data'!$A$1:$R$74,10,FALSE) -> 0.782 | C49: 0.85 | D49: 0.782
...

Sheet 19-20 Indicator Data
A1: COUNTY | B1: Indicator 1 - Percent of infants and toddlers with Individual Family Service Plans (IFSP) who receive the early intervention services on their IFSPs in a timely manner. | C1: Indicator 2 - Percent of infants and toddlers with IFSPs who primarily receive early intervention services in the home or programs for typically developing children. | D1: Indicator 3 Outcome 1 Summary Statement 1 Of the children who entered the program below age expectations in each outcome, the percent who substantially increased their rate of growth by the time they exited B-3 | E1: Indicator 3 Outcome 1 Summary Statement 2 The percent of children who were functioning within age expectations in each Outcome by the time they exited the program | F1: Indicator 3 Outcome 2 Summary Statement 1 Of the children who entered the program below age expectations in each Outcome, the percent who substantially increased their rate of growth by the time they exited B-3 | G1: Indicator 3 Outcome 2 Summary Statement 2 The percent of children who were functioning within age expectations in each Outcome by the time they exited the program | H1: Indicator 3 Outcome 3 Summary Statement 1 Of the children who entered the program below age expectations in each outcome, the percent who substantially increased their rate of growth by the time they exited B-3 | I1: Indicator 3 Outcome 3 Summary Statement 2 The percent of children who were functioning within age expectations in each Outcome by the time they exited the program | J1: Indicator 4A - Percent of families reporting early intervention services have helped the family know their rights. | K1: Indicator 4B - Percent of families reporting early intervention services have helped the family effectively communicate their child's needs. | L1: Indicator 4C - Percent of families reporting early intervention services have helped the family help their child develop and learn. | M1: Indicator 5- Percent of infants and toddlers birth to 1 with IFSPs. | N1: Indicator 6 - Percent of infants and toddlers birth to 3 with IFSPs. | O1: Indicator 7- Percent of eligible infants and toddlers with IFSPs for whom an evaluation and assessment and initial IFSP meeting were conducted in a timely manner. | P1: Indicator 8A - Percent of all children exiting Part C who received timely transition planning to support the child's transition to preschool and other appropriate community services by their third birthday including: IFSPs with transition steps and services. | Q1: Indicator 8B - Percent of all children exiting Part C who received timely transition planning to support the child's transition to preschool and other appropriate community services by their third birthday including: Notification to LEA, if child potentially eligible for Part B. | R1: Indicator 8C - Percent of all children exiting Part C who received timely transition planning to support the child's transition to preschool and other appropriate community services by their third birthday including transition planning conference, if child potentially eligible for Part B.
A2: All Counties | B2: 0.999 | C2: 0.9969 | D2: 0.565 | E2: 0.399 | F2: 0.599 | G2: 0.281 | H2: 0.616 | I2: 0.411 | J2: 0.782 | K2: 0.8774 | L2: 0.8283 | M2: 0.01 | N2: 0.0304 | O2: 0.9936 | P2: 0.9966 | Q2: 0.9827 | R2: 0.9788
A3: Adams | B3: 1 | C3: 1 | D3: 0.5 | E3: 0.55555556 | F3: 0.42857143 | G3: 0.375 | H3: 0.46153846 | I3: 0.55555556 | J3: 0 | K3: 0 | L3: 0 | M3: 0 | N3: 0.041769042 | O3: 1 | P3: 1 | Q3: 1 | R3: 0.92857143
A4: Ashland | B4: 1 | C4: 0.93333333 | D4: 1 | E4: 1 | F4: 1 | G4: 0.88888889 | H4: 1 | I4: 0.88888889 | J4: 0.66666667 | K4: 1 | L4: 0.66666667 | M4: 0.0057971014 | N4: 0.02851711 | O4: 1 | P4: 1 | Q4: 0.5 | R4: 1
A5: Barron | B5: 1 | C5: 1 | D5: 0.5625 | E5: 0.51428571 | F5: 0.48148148 | G5: 0.4 | H5: 0.54166667 | I5: 0.6 | J5: 0 | K5: 0 | L5: 0 | M5: 0.021505376 | N5: 0.026086957 | O5: 0.98507463 | P5: 0.83333333 | Q5: 0.83333333 | R5: 0.82352941
A6: Bayfield | B6: 1 | C6: 1 | D6: 0.5 | E6: 0.4 | F6: 0.8 | G6: 0.4 | H6: 0.8 | I6: 0.4 | J6: 1 | K6: 1 | L6: 1 | M6: 0.0081632653 | N6: 0.019607843 | O6: 0.66666667 | P6: 1 | Q6: 1 | R6: 1
A7: Brown | B7: 1 | C7: 1 | D7: 0.75324675 | E7: 0.33939394 | F7: 0.7133758 | G7: 0.28484848 | H7: 0.71069182 | I7: 0.29268293 | J7: 0.6875 | K7: 0.875 | L7: 0.875 | M7: 0.0073439412 | N7: 0.022693636 | O7: 1 | P7: 1 | Q7: 0.97916667 | R7: 0.95804196
A8: Buffalo | B8: 1 | C8: 1 | D8: 0 | E8: 0.42857143 | F8: 0.2 | G8: 0.42857143 | H8: 0.2 | I8: 0.42857143 | J8: 0.5 | K8: 0 | L8: 0.5 | M8: 0 | N8: 0.013227513 | O8: 1 | P8: 1 | Q8: 1 | R8: 1
A9: Burnett | B9: 1 | C9: 1 | D9: 0.33333333 | E9: 0.63636364 | F9: 0.45454545 | G9: 0.45454545 | H9: 0.57142857 | I9: 0.63636364 | J9: 0 | K9: 0 | L9: 0 | M9: 0.014981273 | N9: 0.021126761 | O9: 1 | P9: 1 | Q9: 1 | R9: 1
A10: Calumet | B10: 1 | C10: 1 | D10: 0.61702128 | E10: 0.38461538 | F10: 0.71428571 | G10: 0.36538462 | H10: 0.73333333 | I10: 0.44230769 | J10: 1 | K10: 1 | L10: 1 | M10: 0.018691589 | N10: 0.037463977 | O10: 1 | P10: 1 | Q10: 0.97142857 | R10: 1
A11: Chippewa | B11: 1 | C11: 0.98630137 | D11: 0.38095238 | E11: 0.36734694 | F11: 0.43478261 | G11: 0.32653061 | H11: 0.48648649 | I11: 0.53061224 | J11: 0.75 | K11: 0.75 | L11: 0.75 | M11: 0.0098176718 | N11: 0.033106576 | O11: 0.98333333 | P11: 1 | Q11: 1 | R11: 0.97826087
A12: Clark | B12: 1 | C12: 1 | D12: 0.4 | E12: 0.27272727 | F12: 0.45454545 | G12: 0.18181818 | H12: 0.4 | I12: 0.18181818 | J12: 0.75 | K12: 0.75 | L12: 1 | M12: 0.0034453058 | N12: 0.01368301 | O12: 1 | P12: 1 | Q12: 1 | R12: 1
A13: Columbia | B13: 1 | C13: 1 | D13: 0.35714286 | E13: 0.33333333 | F13: 0.32258065 | G13: 0.21212121 | H13: 0.48387097 | I13: 0.36363636 | J13: 1 | K13: 1 | L13: 1 | M13: 0.0064360418 | N13: 0.020354906 | O13: 1 | P13: 1 | Q13: 1 | R13: 1
... A74: Wood | B74: 1 | C74: 1 | D74: 0.56603774 | E74: 0.39655172 | F74: 0.57142857 | G74: 0.32758621 | H74: 0.61538462 | I74: 0.44827586 | J74: 1 | K74: 1 | L74: 1 | M74: 0.011392405 | N74: 0.038255862 | O74: 1 | P74: 1 | Q74: 1 | R74: 1

Sheet 19-20 Exit Reason Data
A1: County | B1: 001: turned 3, ref, elig | C1: 002: turned 3, ref, not elig, ref | D1: 003: turned 3, ref, not elig, not ref | E1: 004: turned 3, ref, elig not determ | F1: 005: successful IFSP compl | G1: 006: family chose to end | H1: 007: move in state | I1: 008: move out of state | J1: 009: death | K1: 010: unable to locate fam | L1: 011: turned 3, no consent to ref | M1: 012: turned 3, not potent. Elig | N1: 013: not elig for B-3 | O1: 014: fam chose not to take B-3 | P1: 015: turned 3, referred to LEA prior to transfer | Q1: Total
A2: All Counties | B2: 2158 | C2: 182 | D2: 159 | E2: 1159 | F2: 878 | G2: 850 | H2: 131 | I2: 121 | J2: 13 | K2: 315 | L2: 127 | M2: 175 | N2: 1 | O2: 25 | P2: 5 | Q2: 6299
A3: Adams | B3: 10 | C3: 0 | D3: 0 | E3: 4 | F3: 1 | G3: 1 | H3: 2 | I3: 0 | J3: 0 | K3: 0 | L3: 1 | M3: 2 | N3: 0 | O3: 0 | P3: 0 | Q3: 21 | S3: 001: Child turned 3; referred to LEA; LEA found child eligible for special education 002: Child turned 3; referred to LEA but ineligible; referred to other programs 003: Child turned 3; referred to LEA but ineligible; not referred to other programs 004: Child turned 3; referred to LEA; eligibility pending for special education 005: Child is no longer in need of services. Successful completion of the IFSP 006: Family chose to discontinue services 007: Child moved within the state 008: Child moved out of the state 009: Death of child 010: Child under 3; Birth to 3 unable to locate family after many attempts 011: Child turned 3, parents did not consent to LEA referral and/or LEA evaluation 012: Child turned 3; not referred to LEA as not believed to be eligible 013: Child did not qualify for Birth to 3 014: Parents chose not to enroll in Birth to 3 015: Child turned 3; referred to LEA prior to transfer to current B-3 program
A4: Ashland | B4: 1 | C4: 0 | D4: 1 | E4: 0 | F4: 4 | G4: 5 | H4: 1 | I4: 0 | J4: 0 | K4: 0 | L4: 0 | M4: 1 | N4: 0 | O4: 0 | P4: 0 | Q4: 13
A5: Barron | B5: 10 | C5: 1 | D5: 2 | E5: 6 | F5: 10 | G5: 16 | H5: 3 | I5: 0 | J5: 0 | K5: 3 | L5: 0 | M5: 2 | N5: 0 | O5: 0 | P5: 0 | Q5: 53
A6: Bayfield | B6: 4 | C6: 0 | D6: 0 | E6: 2 | F6: 0 | G6: 0 | H6: 0 | I6: 1 | J6: 0 | K6: 0 | L6: 0 | M6: 2 | N6: 0 | O6: 1 | P6: 0 | Q6: 10
A7: Brown | B7: 108 | C7: 4 | D7: 11 | E7: 36 | F7: 55 | G7: 50 | H7: 0 | I7: 5 | J7: 0 | K7: 22 | L7: 2 | M7: 6 | N7: 0 | O7: 1 | P7: 0 | Q7: 300
A8: Buffalo | B8: 5 | C8: 0 | D8: 1 | E8: 0 | F8: 3 | G8: 2 | H8: 0 | I8: 0 | J8: 0 | K8: 0 | L8: 0 | M8: 0 | N8: 0 | O8: 0 | P8: 0 | Q8: 11
A9: Burnett | B9: 7 | C9: 1 | D9: 1 | E9: 1 | F9: 4 | G9: 0 | H9: 0 | I9: 0 | J9: 0 | K9: 0 | L9: 0 | M9: 1 | N9: 0 | O9: 0 | P9: 0 | Q9: 15
A10: Calumet | B10: 22 | C10: 0 | D10: 4 | E10: 9 | F10: 17 | G10: 8 | H10: 3 | I10: 0 | J10: 0 | K10: 2 | L10: 0 | M10: 5 | N10: 0 | O10: 0 | P10: 0 | Q10: 70
A11: Chippewa | B11: 34 | C11: 3 | D11: 0 | E11: 15 | F11: 11 | G11: 3 | H11: 0 | I11: 2 | J11: 0 | K11: 1 | L11: 1 | M11: 2 | N11: 0 | O11: 0 | P11: 0 | Q11: 72
A12: Clark | B12: 3 | C12: 0 | D12: 0 | E12: 6 | F12: 0 | G12: 5 | H12: 0 | I12: 0 | J12: 0 | K12: 0 | L12: 2 | M12: 1 | N12: 0 | O12: 0 | P12: 0 | Q12: 17
A13: Columbia | B13: 20 | C13: 0 | D13: 1 | E13: 6 | F13: 4 | G13: 1 | H13: 1 | I13: 3 | J13: 0 | K13: 0 | L13: 0 | M13: 4 | N13: 0 | O13: 0 | P13: 0 | Q13: 40
A14: Crawford | B14: 10 | C14: 0 | D14: 1 | E14: 0 | F14: 0 | G14: 3 | H14: 1 | I14: 1 | J14: 0 | K14: 0 | L14: 1 | M14: 3 | N14: 0 | O14: 0 | P14: 0 | Q14: 20
A15: Dane | B15: 122 | C15: 3 | D15: 17 | E15: 79 | F15: 73 | G15: 75 | H15: 11 | I15: 14 | J15: 0 | K15: 15 | L15: 27 | M15: 12 | N15: 0 | O15: 4 | P15: 1 | Q15: 453
... A74: Wood | B74: 27 | C74: 4 | D74: 1 | E74: 6 | F74: 13 | G74: 18 | H74: 1 | I74: 0 | J74: 0 | K74: 5 | L74: 1 | M74: 4 | N74: 0 | O74: 0 | P74: 0 | Q74: 80
